BEGIN:VCALENDAR
VERSION:2.0
PRODID:-//Building Pathways - ECPv6.15.20//NONSGML v1.0//EN
CALSCALE:GREGORIAN
METHOD:PUBLISH
X-ORIGINAL-URL:https://buildingpathwaysma.org
X-WR-CALDESC:Events for Building Pathways
REFRESH-INTERVAL;VALUE=DURATION:PT1H
X-Robots-Tag:noindex
X-PUBLISHED-TTL:PT1H
BEGIN:VTIMEZONE
TZID:UTC
BEGIN:STANDARD
TZOFFSETFROM:+0000
TZOFFSETTO:+0000
TZNAME:UTC
DTSTART:20240101T000000
END:STANDARD
END:VTIMEZONE
BEGIN:VEVENT
DTSTART;TZID=UTC:20251202T170000
DTEND;TZID=UTC:20251202T183000
DTSTAMP:20260419T184630
CREATED:20220516T152338Z
LAST-MODIFIED:20250812T205419Z
UID:2519-1764694800-1764700200@buildingpathwaysma.org
SUMMARY:Boston Tradeswomen Tuesdays
DESCRIPTION:For more information\, visit https://buildalifema.org/tradeswomen-workshops/boston/.
URL:https://buildingpathwaysma.org/event/tradeswomen-tuesdays/2025-12-02/
LOCATION:Building Pathways Office\, 1705 Columbus Ave\, Roxbury\, MA\, 02119\, United States
END:VEVENT
BEGIN:VEVENT
DTSTART;TZID=UTC:20251007T170000
DTEND;TZID=UTC:20251007T183000
DTSTAMP:20260419T184630
CREATED:20220516T152338Z
LAST-MODIFIED:20250812T205419Z
UID:2517-1759856400-1759861800@buildingpathwaysma.org
SUMMARY:Boston Tradeswomen Tuesdays
DESCRIPTION:For more information\, visit https://buildalifema.org/tradeswomen-workshops/boston/.
URL:https://buildingpathwaysma.org/event/tradeswomen-tuesdays/2025-10-07/
LOCATION:Building Pathways Office\, 1705 Columbus Ave\, Roxbury\, MA\, 02119\, United States
END:VEVENT
BEGIN:VEVENT
DTSTART;TZID=UTC:20250902T170000
DTEND;TZID=UTC:20250902T183000
DTSTAMP:20260419T184630
CREATED:20220516T152338Z
LAST-MODIFIED:20250812T205409Z
UID:804-1756832400-1756837800@buildingpathwaysma.org
SUMMARY:Boston Tradeswomen Tuesdays
DESCRIPTION:For more information\, visit https://buildalifema.org/tradeswomen-workshops/boston/.
URL:https://buildingpathwaysma.org/event/tradeswomen-tuesdays/2025-09-02/
LOCATION:Building Pathways Office\, 1705 Columbus Ave\, Roxbury\, MA\, 02119\, United States
END:VEVENT
END:VCALENDAR